BEGIN:VCALENDAR
VERSION:2.0
METHOD:PUBLISH
PRODID:-//hacksw/handcal//NONSGML v1.0//EN
BEGIN:VEVENT
DTSTAMP:20260424T105720Z
DTSTART:20210116T130000Z
DTEND:20210417T150000Z
UID:20210116T130000Z-20210417T150000Z-114@www.scena-burgdorf.de
SUMMARY:Armin Mueller-Stahl - virtueller Rundgang
DESCRIPTION:Leider durften wir unsere große Ausstellung über Armin Mue
 ller-Stahl nicht für Sie öffnen und mussten sie inzwischen wieder abba
 uen. Um Ihnen dennoch einen Eindruck zu geben\, haben wir für Sie eine
 n virtuellen Rundgang durch die Ausstellung gedreht. Zudem finden Sie 
 hier alle Texte und Bilder der Ausstellung.\n\n\nHier finden Sie:\nVid
 eo Kurzer Rundgang durch die Ausstellung  (wir danken Nico Baars und F
 elix Köbe von Objektivfilm Burgdorf)\nVideo ausführlicher Rundgang dur
 ch die Ausstellung\nVideo Bilderausstellung - die meisten Bilder könne
 n erworben werden!\nBilderliste - die meisten Bilder können erworben w
 erden!\nBiografie von Armin Mueller-Stahl\nTexte zur Biografie\nFilmog
 rafie seiner DDR-Filme\nFilmografie seiner BRD-Filme\nFilmografie sein
 er internationalen Filme\nTexte zu den Filmen\nFlyer zum Ausstellungsp
 rogramm (leider obsolet)\n\nScena gratuliert Armin Mueller-Stahl mit e
 iner großen Ausstellung zum 90. Geburtstag. Der vielseitige Künstler  
 ist dem breiten Publikum vor allem als einer der renommiertesten deuts
 chen und internationalen Schauspieler bekannt\, doch die künstlerische
  Begabung des Multi-Talents erstreckt sich ebenso auf die Musik\, auf 
 das Malen und Schreiben.\n\nIn einer großen Ausstellung im Burgdorfer 
 Stadtmuseum stellt der Kulturverein Scena den Künstler in all seinen F
 acetten vor und zeigt eine umfangreiche Auswahl seiner Bilder\, die mi
 t Ausnahme einiger Bilder aus Privatbesitz zum Verkauf stehen.\n\nDas 
 von Scena und der Neuen Schauburg geplante Beiprogramm mit den Filmen\
 , die der großartige Schauspieler für seine Wichtigsten hält\, kann de
 rzeit leider nicht angeboten werden. Wir versuchen\, Nachholtermine zu
  finden.
X-ALT-DESC;FMTTYPE=text/html:<p>Leider durften wir unsere große Ausste
 llung über Armin Mueller-Stahl nicht für Sie öffnen und mussten sie in
 zwischen wieder abbauen. Um Ihnen dennoch einen Eindruck zu geben\, ha
 ben wir für Sie einen virtuellen Rundgang durch die Ausstellung gedreh
 t. Zudem finden Sie hier alle Texte und Bilder der Ausstellung.</p>\n<
 p>Hier finden Sie:<br>\n<a href=https://www.youtube.com/watch?v=HdEhX9
 mlcoQ><strong>Video Kurzer</strong> <strong>Rundgang</strong> </a>durc
 h die Ausstellung  (wir danken Nico Baars und Felix Köbe von <a href=h
 ttps://www.objektivfilm-burgdorf.de/>Objektivfilm</a> Burgdorf)<br>\n<
 a href=https://youtu.be/4ciQUM0dvT4><strong>Video ausführlicher Rundga
 ng </strong></a>durch die Ausstellung<br>\n<a href=https://youtu.be/-Y
 IVpAL-Qic><strong>Video Bilderausstellung</strong></a> &#8211\; die me
 isten Bilder können erworben werden!<strong><a href=https://www.scena-
 burgdorf.de/wp-content/uploads/AMS-Bilderliste.pdf><br>\nBilderliste &
 #8211\; </a></strong>die meisten Bilder können erworben werden!<br>\n<
 strong><a href=https://www.scena-burgdorf.de/wp-content/uploads/AMS-Vi
 ta-2.pdf>Biografie </a></strong>von Armin Mueller-Stahl<br>\n<strong><
 a href=https://www.scena-burgdorf.de/wp-content/uploads/AMS-Biografisc
 he-Texte.pdf>Texte zur Biografie</a></strong><br>\n<strong><a href=htt
 ps://www.scena-burgdorf.de/wp-content/uploads/AMS-Filmografie-DDR.pdf>
 Filmografie</a> </strong>seiner DDR-Filme<br>\n<strong><a href=https:/
 /www.scena-burgdorf.de/wp-content/uploads/AMS-Filmografie-BRD.pdf>Film
 ografie</a> </strong>seiner BRD-Filme<br>\n<strong><a href=https://www
 .scena-burgdorf.de/wp-content/uploads/AMS-Filografie-international.pdf
 >Filmografie</a> </strong>seiner internationalen Filme<br>\n<strong><a
  href=https://www.scena-burgdorf.de/wp-content/uploads/AMS-Filme-1.pdf
 >Texte zu den Filmen</a></strong><br>\n<strong><a href=https://www.sce
 na-burgdorf.de/wp-content/uploads/AMS-Flyer.pdf>Flyer</a> </strong>zum
  Ausstellungsprogramm (leider obsolet)</p>\n<p>Scena gratuliert Armin 
 Mueller-Stahl mit einer großen Ausstellung zum 90. Geburtstag. Der vie
 lseitige Künstler  ist dem breiten Publikum vor allem als einer der re
 nommiertesten deutschen und internationalen Schauspieler bekannt\, doc
 h die künstlerische Begabung des Multi-Talents erstreckt sich ebenso a
 uf die Musik\, auf das Malen und Schreiben.</p>\n<p>In einer großen Au
 sstellung im Burgdorfer Stadtmuseum stellt der Kulturverein Scena den 
 Künstler in all seinen Facetten vor und zeigt eine umfangreiche Auswah
 l seiner Bilder\, die mit Ausnahme einiger Bilder aus Privatbesitz zum
  Verkauf stehen.</p>\n<p>Das von Scena und der Neuen Schauburg geplant
 e Beiprogramm mit den Filmen\, die der großartige Schauspieler für sei
 ne Wichtigsten hält\, kann derzeit leider nicht angeboten werden. Wir 
 versuchen\, Nachholtermine zu finden.</p>\n
URL:https://www.scena-burgdorf.de/events/ausstellung-armin-muller-stah
 l-20/?lang=de
ATTACH:https://www.scena-burgdorf.de/events/ausstellung-armin-muller-s
 tahl-20/?lang=de
ATTACH:https://www.scena-burgdorf.de/wp-content/uploads/AMS-Titel-Rund
 gang-250x250.jpg
LOCATION:Stadtmuseum Burgdorf\, Schmiedestraße 6\, Burgdorf
END:VEVENT
END:VCALENDAR
