BEGIN:VCALENDAR
VERSION:2.0
METHOD:PUBLISH
PRODID:-//hacksw/handcal//NONSGML v1.0//EN
BEGIN:VEVENT
DTSTAMP:20260423T101750Z
DTSTART:20240218T160000Z
DTEND:20240218T180000Z
UID:20240218T160000Z-20240218T180000Z-332@www.scena-burgdorf.de
SUMMARY:Maximilian Hornung und Hisako Kawamura
DESCRIPTION:Mit dem Duo Hornung / Kawamura dürfen Sie sich getrost auf
  ein Konzerterlebnis der Sonderklasse einstellen!\n\n\n\nMaximilian Ho
 rnung hat sich in den letzten Jahren als einer der führenden Cellisten
  seiner Generation etabliert. Als Solist konzertiert er mit den renomm
 iertesten Orchestern und Dirigenten. Er spielt Kammermusik mit Anne-So
 phie Mutter\, Antje Weithaas\, Hélène Grimaud\, Daniil Trifonov\, Chri
 stian Tetzlaff\, Lisa Batiashvili\, Joshua Bell\, Yefim Bronfman\, His
 ako Kawamura\, Jörg Widmann und Tabea Zimmermann. Er wird von zahlreic
 hen Festivals eingeladen\, darunter Schwetzingen\, die Salzburger Fest
 spiele\, Schleswig-Holstein\, Mecklenburg-Vorpommern\, Rheingau\, Luze
 rn\, Verbier\, Lockenhaus\, Ravinia und Hong Kong.\n\n\n\n\nIn der Sai
 son 2023/24 wird Maximilian Hornung unter anderem seine Debüts beim Da
 llas Symphony Orchestra\, beim Frankfurter Opern- und Museumsorchester
 \, beim Estonian Festival Orchestra und beim Helsinki Philharmonic Orc
 hestra geben. Erstmals wird er in der Doppelfunktion als Solist und Di
 rigent beim Orchestra della Svizzera italiana zu erleben sein. Er wird
  erneut in der Tonhalle Zürich und bei der Deutschen Staatsphilharmoni
 e Rheinland-Pfalz zu Gast sein sowie auf Tournee mit dem Nederlands Ph
 ilharmonisch Orkest Brahms’ Doppelkonzert mit Lisa Batiashvili spielen
 . Nach der erfolgreichen Europa-Tournee im Trio mit Anne-Sophie Mutter
  und Lambert Orkis in der Saison 2022/23 spielt er in der aktuellen Sa
 ison mit Anne-Sophie Mutter bei der Mozartwoche Salzburg.\n\nSeine ers
 taunlich umfangreiche und vielseitige Diskographie umfasst sowohl Solo
 konzerte als auch äußerst prominent besetzte kammermusikalische Einspi
 elungen. 2017 erschien bei der Deutschen Grammophon eine hoch gelobte 
 Einspielung von Schuberts Forellenquintett mit u.a. Anne-Sophie Mutter
  und Daniil Trifonov\, 2018 eine Einspielung mit Dmitri Schostakowitsc
 hs 2. Cellokonzert und Sulkhan Tsintsadzes 2. Cellokonzert mit dem Deu
 tschen Symphonie-Orchester Berlin unter Andris Poga bei myrios classic
 s. 2023 folgt auf dem gleichen Label seine Einspielung von Schumanns C
 ellokonzert mit dem Swedish Radio Symphony Orchestra unter Daniel Hard
 ing.\n\n1986 in Augsburg geboren\, erhielt Maximilian Hornung mit acht
  Jahren seinen ersten Cello-Unterricht. Seine Lehrer waren Eldar Issak
 adze\, Thomas Grossenbacher und David Geringas. Nachdem er 2005 als Si
 eger des Deutschen Musikwettbewerbs hervortrat\, gewann er 2007 als Ce
 llist des Tecchler Trios\, dem er bis 2011 angehörte\, den Ersten Prei
 s beim ARD-Musikwettbewerb. Im Alter von nur 23 Jahren wurde er erster
  Solocellist des Symphonieorchesters des Bayerischen Rundfunks und hat
 te diese Position bis 2013 inne. Maximilian Hornung wird vom Freundesk
 reis der Anne-Sophie Mutter Stiftung und vom Borletti-Buitoni-Trust in
  London unterstützt und gefördert. Im Frühjahr 2022 übernahm er die kü
 nstlerische Leitung der Traunsteiner Sommerkonzerte.\n\n\nSeine Partne
 rin am Klavier ist Hisako Kawamura. Geboren in Nishinomiya (Japan)\, a
 ufgewachsen in Deutschland\, identifiziert sich Hisako Kawamura sowohl
  mit der europäischen als auch der japanischen Kultur. Sie studierte b
 ei Vladimir Krainev und Małgorzata Bator-Schreiber und gewann so renom
 mierte Wettbewerbe wie den  Concours Clara Haskil in Vevey\, Concorso 
 Pianistico A.Casagrande in Terni\, Concorso Internationale di Musica G
 .B.Viotti in Vercelli und den Europäischen Chopin-Wettbewerb in Darmst
 adt. Zudem war sie Preisträgerin beim Internationalen Musikwettbewerb 
 der ARD in München und dem Concours Géza Anda in Zürich.\n\nAls Solist
 in spielt sie mit internationalen Orchestern und Dirigenten wie Eliahu
  Inbal\, Paavo Järvi oder Mikhail Pletnev. Ihre Leidenschaft liegt jed
 och auf der Kammermusik\, bei der sie den Austausch musikalischer Idee
 n und Inspirationen mit den Partnermusikern sehr schätzt. So musiziert
  sie regelmäßig zusammen mit Musikern wie Sarah Christian (Violine)\, 
 Clemens Hagen (Cello) sowie Maximilian Hornung (Cello).\n\nFür ihre kü
 nstlerische Tätigkeit erhielt sie diverse Kultur-Preise: den Fresh Art
 ist Award der Nippon Steel Corporation\, Idemitsu Music Prize der Firm
 a Idemitsu Kosan\, den Preis der Chopin-Gesellschaft Japan\, IUE-Kultu
 rpreis\, Hotel Okura Musik Preis sowie den Förderpreis für Junge Künst
 ler im Fach Musik vom Minister für Erziehung\, Kultur\, Sport\, Wissen
 schaft und Technologie Japans.\n\nIm Jahre 2020 wurde ihr der 51. Sunt
 ory Music Award verliehen. Außerdem erhielt sie jeweils in der Kategor
 ie Klassik den 12.CD Shop Award und den Music Penclub Japan Award.\n\n
 Auf ihren zuletzt erschienenen CDs beim Label RCA Red Seal\, widmete s
 ie sich den Sonaten Ludwig van Beethovens. In dem japanischen Spielfil
 m „LISTEN TO THE UNIVERSE“ (in Japan unter dem Titel „Mitsubatchi to E
 nrai“ bekannt)\, basierend auf dem gleichnamigen Roman von Riku Onda\,
  der von einem internationalen Klavierwettbewerb handelt\, übernahm Ka
 wamura die Einspielung der Klaviermusik von der Hauptdarstellerin Aya 
 Eiden. Der Soundtrack dazu ist bei Sony Music Labels erschienen.\n\nIn
 spiriert von der engagierten pädagogischen Tätigkeit ihrer Mentoren\, 
 die ihre pianistische und künstlerische Erfahrung an die nächste Gener
 ation weitergaben\, unterrichtet Kawamura an der Folkwang Universität 
 der Künste in Essen\, an die sie 2015 zur Professorin berufen worden i
 st. Außerdem ist sie Sonderlehrbeauftragte am Tokyo College of Music.\
 n\nKarten für dieses Konzert gibt es im Vorverkauf in Wegeners Buchhan
 dlung\, bei Fa. Bleich\, telefonisch unter der Scena-Servicenummer 051
 47 720937 und an der Abendkasse. Jugend hat freien Eintritt.
X-ALT-DESC;FMTTYPE=text/html:<p>Mit dem Duo Hornung / Kawamura dürfen 
 Sie sich getrost auf ein Konzerterlebnis der Sonderklasse einstellen!<
 /p>\n<div class=articleText>\n<p><strong>Maximilian Hornung</strong> h
 at sich in den letzten Jahren als einer der führenden Cellisten seiner
  Generation etabliert. Als Solist konzertiert er mit den renommiertest
 en Orchestern und Dirigenten. Er spielt Kammermusik mit Anne-Sophie Mu
 tter\, Antje Weithaas\, Hélène Grimaud\, Daniil Trifonov\, Christian T
 etzlaff\, Lisa Batiashvili\, Joshua Bell\, Yefim Bronfman\, Hisako Kaw
 amura\, Jörg Widmann und Tabea Zimmermann. Er wird von zahlreichen Fes
 tivals eingeladen\, darunter Schwetzingen\, die Salzburger Festspiele\
 , Schleswig-Holstein\, Mecklenburg-Vorpommern\, Rheingau\, Luzern\, Ve
 rbier\, Lockenhaus\, Ravinia und Hong Kong.</p>\n</div>\n<div class=ar
 ticleText>\n<p>In der Saison 2023/24 wird Maximilian Hornung unter and
 erem seine Debüts beim Dallas Symphony Orchestra\, beim Frankfurter Op
 ern- und Museumsorchester\, beim Estonian Festival Orchestra und beim 
 Helsinki Philharmonic Orchestra geben. Erstmals wird er in der Doppelf
 unktion als Solist und Dirigent beim Orchestra della Svizzera italiana
  zu erleben sein. Er wird erneut in der Tonhalle Zürich und bei der De
 utschen Staatsphilharmonie Rheinland-Pfalz zu Gast sein sowie auf Tour
 nee mit dem Nederlands Philharmonisch Orkest Brahms’ Doppelkonzert mit
  Lisa Batiashvili spielen. Nach der erfolgreichen Europa-Tournee im Tr
 io mit Anne-Sophie Mutter und Lambert Orkis in der Saison 2022/23 spie
 lt er in der aktuellen Saison mit Anne-Sophie Mutter bei der Mozartwoc
 he Salzburg.</p>\n<p>Seine erstaunlich umfangreiche und vielseitige Di
 skographie umfasst sowohl Solokonzerte als auch äußerst prominent bese
 tzte kammermusikalische Einspielungen. 2017 erschien bei der Deutschen
  Grammophon eine hoch gelobte Einspielung von Schuberts Forellenquinte
 tt mit u.a. Anne-Sophie Mutter und Daniil Trifonov\, 2018 eine Einspie
 lung mit Dmitri Schostakowitschs 2. Cellokonzert und Sulkhan Tsintsadz
 es 2. Cellokonzert mit dem Deutschen Symphonie-Orchester Berlin unter 
 Andris Poga bei myrios classics. 2023 folgt auf dem gleichen Label sei
 ne Einspielung von Schumanns Cellokonzert mit dem Swedish Radio Sympho
 ny Orchestra unter Daniel Harding.</p>\n<p>1986 in Augsburg geboren\, 
 erhielt Maximilian Hornung mit acht Jahren seinen ersten Cello-Unterri
 cht. Seine Lehrer waren Eldar Issakadze\, Thomas Grossenbacher und Dav
 id Geringas. Nachdem er 2005 als Sieger des Deutschen Musikwettbewerbs
  hervortrat\, gewann er 2007 als Cellist des Tecchler Trios\, dem er b
 is 2011 angehörte\, den Ersten Preis beim ARD-Musikwettbewerb. Im Alte
 r von nur 23 Jahren wurde er erster Solocellist des Symphonieorchester
 s des Bayerischen Rundfunks und hatte diese Position bis 2013 inne. Ma
 ximilian Hornung wird vom Freundeskreis der Anne-Sophie Mutter Stiftun
 g und vom Borletti-Buitoni-Trust in London unterstützt und gefördert. 
 Im Frühjahr 2022 übernahm er die künstlerische Leitung der Traunsteine
 r Sommerkonzerte.</p>\n</div>\n<p>Seine Partnerin am Klavier ist<stron
 g> Hisako Kawamura</strong>. Geboren in Nishinomiya (Japan)\, aufgewac
 hsen in Deutschland\, identifiziert sich Hisako Kawamura sowohl mit de
 r europäischen als auch der japanischen Kultur. Sie studierte bei Vlad
 imir Krainev und Małgorzata Bator-Schreiber und gewann so renommierte 
 Wettbewerbe wie den  Concours Clara Haskil in Vevey\, Concorso Pianist
 ico A.Casagrande in Terni\, Concorso Internationale di Musica G.B.Viot
 ti in Vercelli und den Europäischen Chopin-Wettbewerb in Darmstadt. Zu
 dem war sie Preisträgerin beim Internationalen Musikwettbewerb der ARD
  in München und dem Concours Géza Anda in Zürich.</p>\n<p>Als Solistin
  spielt sie mit internationalen Orchestern und Dirigenten wie Eliahu I
 nbal\, Paavo Järvi oder Mikhail Pletnev. Ihre Leidenschaft liegt jedoc
 h auf der Kammermusik\, bei der sie den Austausch musikalischer Ideen 
 und Inspirationen mit den Partnermusikern sehr schätzt. So musiziert s
 ie regelmäßig zusammen mit Musikern wie Sarah Christian (Violine)\, Cl
 emens Hagen (Cello) sowie Maximilian Hornung (Cello).</p>\n<p>Für ihre
  künstlerische Tätigkeit erhielt sie diverse Kultur-Preise: den Fresh 
 Artist Award der Nippon Steel Corporation\, Idemitsu Music Prize der F
 irma Idemitsu Kosan\, den Preis der Chopin-Gesellschaft Japan\, IUE-Ku
 lturpreis\, Hotel Okura Musik Preis sowie den Förderpreis für Junge Kü
 nstler im Fach Musik vom Minister für Erziehung\, Kultur\, Sport\, Wis
 senschaft und Technologie Japans.</p>\n<p>Im Jahre 2020 wurde ihr der 
 51. Suntory Music Award verliehen. Außerdem erhielt sie jeweils in der
  Kategorie Klassik den 12.CD Shop Award und den Music Penclub Japan Aw
 ard.</p>\n<p>Auf ihren zuletzt erschienenen CDs beim Label RCA Red Sea
 l\, widmete sie sich den Sonaten Ludwig van Beethovens. In dem japanis
 chen Spielfilm „LISTEN TO THE UNIVERSE“ (in Japan unter dem Titel „Mit
 subatchi to Enrai“ bekannt)\, basierend auf dem gleichnamigen Roman vo
 n Riku Onda\, der von einem internationalen Klavierwettbewerb handelt\
 , übernahm Kawamura die Einspielung der Klaviermusik von der Hauptdars
 tellerin Aya Eiden. Der Soundtrack dazu ist bei Sony Music Labels ersc
 hienen.</p>\n<p>Inspiriert von der engagierten pädagogischen Tätigkeit
  ihrer Mentoren\, die ihre pianistische und künstlerische Erfahrung an
  die nächste Generation weitergaben\, unterrichtet Kawamura an der Fol
 kwang Universität der Künste in Essen\, an die sie 2015 zur Professori
 n berufen worden ist. Außerdem ist sie Sonderlehrbeauftragte am Tokyo 
 College of Music.</p>\n<p>Karten für dieses Konzert gibt es im Vorverk
 auf in Wegeners Buchhandlung\, bei Fa. Bleich\, telefonisch unter der 
 Scena-Servicenummer 05147 720937 und an der Abendkasse. Jugend hat fre
 ien Eintritt.</p>\n
URL:https://www.scena-burgdorf.de/events/maximilian-hornung-und-hisako
 -kawamura/?lang=de
ATTACH:https://www.scena-burgdorf.de/events/maximilian-hornung-und-his
 ako-kawamura/?lang=de
ATTACH:https://www.scena-burgdorf.de/wp-content/uploads/Maximilian-Hor
 nung-und-Hisako-Kawamura-250x250.jpg
LOCATION:Ratssaal im Burgdorfer Schloss\, Spittaplatz 5\, Burgdorf
END:VEVENT
END:VCALENDAR
