BEGIN:VCALENDAR
VERSION:2.0
METHOD:PUBLISH
PRODID:-//hacksw/handcal//NONSGML v1.0//EN
BEGIN:VEVENT
DTSTAMP:20260424T093139Z
DTSTART:20240323T130000Z
DTEND:20240512T150000Z
UID:20240323T130000Z-20240512T150000Z-358@www.scena-burgdorf.de
SUMMARY:Jana Kreft - SICHTBAR - Lebendige Strukturen
DESCRIPTION:Scena zeigt Bilder der Celler Malerin Jana Kreft\n\n\nÜber
  ihre Bilder schreibt die Malerin: Meine Bilder entstehen Schicht für 
 Schicht aus unterschiedlichen Strukturmaterialien – wie Marmormehl\, S
 teinmehlen\, Kaffee\, Sumpfkalk und verschiedenen Baumaterialien. Bei 
 der Anlage der Strukturen lasse ich mich von meinem Gefühl\, Erinnerun
 gen und Inspirationen aus der Natur leiten.\n\nDabei sind es neben Str
 ukturen und Rissen vor allem die unvorhergesehenen Bildentwicklungen i
 m Trocknungsprozess\, die die Malerin faszinieren. Auf die so entstand
 enen Untergründe eingehend\, wird durch vielfältige Farbaufträge aus m
 it verschiedenen Bindemitteln gebundenen Pigmenten \, Beizen\, Tuschen
 \, Kreiden\, Wachs und Ölen eine Spannung aus Farben und Oberflächen i
 m Bild geschaffen. Durch Auftrag und Abtrag verändert sich das Bild im
  Entstehungsprozess\, Untergründe werden überdeckt und teilweise aus t
 ieferen Schichten wieder freigelegt. In diesem prozesshaften und exper
 imentellen Arbeiten entsteht eine Dreidimensionalität und visuelle Far
 bräume\, die sich dem Betrachter oft erst nach und nach öffnen.\n\nJan
 a Kreft ist seit 2018 Schülerin und seit 2021 Studentin bei Gabriele M
 usebrink. 2023 schloss sie den Studiengang process painting of intuiti
 ve power an der Akademie der Bildenden Künste Kolbermoor bei Gabriele 
 Musebrink ab. Prägende Anregungen erhielt sie zudem von Günther Reil\,
  Margret Schubert\, Gabriele Middelmann\, Bernhard Vogel und Carsten W
 estphal. Jana Kreft ist Mitglied im AmateurMalkreisCelle.\n\nÖffnungsz
 eiten: samstags und sonntags von 14-17:00 \, der Eintritt ist frei
X-ALT-DESC;FMTTYPE=text/html:<p>Scena zeigt Bilder der Celler Malerin 
 Jana Kreft</p>\n<p>Über ihre Bilder schreibt die Malerin: &#8222\;Mein
 e Bilder entstehen Schicht für Schicht aus unterschiedlichen Strukturm
 aterialien – wie Marmormehl\, Steinmehlen\, Kaffee\, Sumpfkalk und ver
 schiedenen Baumaterialien. Bei der Anlage der Strukturen lasse ich mic
 h von meinem Gefühl\, Erinnerungen und Inspirationen aus der Natur lei
 ten.&#8220\;</p>\n<p>Dabei sind es neben Strukturen und Rissen vor all
 em die unvorhergesehenen Bildentwicklungen im Trocknungsprozess\, die 
 die Malerin faszinieren. Auf die so entstandenen Untergründe eingehend
 \, wird durch vielfältige Farbaufträge aus mit verschiedenen Bindemitt
 eln gebundenen Pigmenten \, Beizen\, Tuschen\, Kreiden\, Wachs und Öle
 n eine Spannung aus Farben und Oberflächen im Bild geschaffen. Durch A
 uftrag und Abtrag verändert sich das Bild im Entstehungsprozess\, Unte
 rgründe werden überdeckt und teilweise aus tieferen Schichten wieder f
 reigelegt. In diesem prozesshaften und experimentellen Arbeiten entste
 ht eine Dreidimensionalität und visuelle Farbräume\, die sich dem Betr
 achter oft erst nach und nach öffnen.</p>\n<p>Jana Kreft ist seit 2018
  Schülerin und seit 2021 Studentin bei Gabriele Musebrink. 2023 schlos
 s sie den Studiengang &#8222\;process painting of intuitive power&#822
 0\; an der Akademie der Bildenden Künste Kolbermoor bei Gabriele Museb
 rink ab. Prägende Anregungen erhielt sie zudem von Günther Reil\, Marg
 ret Schubert\, Gabriele Middelmann\, Bernhard Vogel und Carsten Westph
 al. Jana Kreft ist Mitglied im AmateurMalkreisCelle.</p>\n<p>Öffnungsz
 eiten: samstags und sonntags von 14-17:00 \, der Eintritt ist frei</p>
 \n
URL:https://www.scena-burgdorf.de/events/jana-kreft-lebendige-struktur
 en-17/?lang=de
ATTACH:https://www.scena-burgdorf.de/events/jana-kreft-lebendige-struk
 turen-17/?lang=de
ATTACH:https://www.scena-burgdorf.de/wp-content/uploads/Jana-Kreft-1-w
 eb-250x250.jpg
LOCATION:Magdalenenkapelle\, Alter Friedhof\, Burgdorf
END:VEVENT
END:VCALENDAR
