BEGIN:VCALENDAR
VERSION:2.0
METHOD:PUBLISH
PRODID:-//hacksw/handcal//NONSGML v1.0//EN
BEGIN:VEVENT
DTSTAMP:20260423T095948Z
DTSTART:20250119T160000Z
DTEND:20250119T180000Z
UID:20250119T160000Z-20250119T180000Z-374@www.scena-burgdorf.de
SUMMARY:Klavierduo Walachowski
DESCRIPTION:Ein Klavier - vier Hände - Virtuosität und Musik pur!\n\n„
 Den beiden Pianistinnen fehlt es an nichts\, weder an Temperament\, zü
 ndender rhythmischer Gestaltung\, noch an Wärme oder klanglicher Sensi
 bilität.“ – so war in Klassik Heute über das Klavierduo Anna und Ines 
 Walachowski zu lesen\, das längst zu den führenden Klavierduos der Geg
 enwart zählt. Die aus Polen stammenden Schwestern studierten in Hannov
 er und Salzburg\, wesentliche musikalische Impulse erhielten sie durch
  Karl Heinz Kämmerling und Alfons Kontarsky\, der die Schwestern als „
 starke Persönlichkeiten mit Durchsetzungskraft und Willensstärke“ beze
 ichnete.\n\nVon der vitalen Spielweise der beiden Pianistinnen war auc
 h der legendäre amerikanische Musikkritiker und „Klavierpapst“ Harold 
 C. Schonberg höchst angetan : „They seem to have unlimited technique\,
  they use a very wide dynamic palette\, they have oodles of temperamen
 t and unfaltering rhythm.“\n\nDas Duo konzertiert weltweit und ist zu 
 Gast bei Festivals wie dem Rheingau Musik Festival\, dem Schleswig-Hol
 stein Musik Festival\, den Ludwigsburger Schlossfestspielen\, aber auc
 h dem Harbin Music Festival in China und dem Bangkok Music Festival in
  Thailand. In fruchtbaren und teils überraschenden Kooperationen erwei
 tern Anna und Ines Walachowski immer wieder auf’s Neue ihr künstlerisc
 hes Spektrum\, das sie in 11 CD-Einspielungen in seiner ganzen Bandbre
 ite präsentieren.\n\nProgramm:\nLudwig van Beethoven       - 8 Variati
 onen über ein Thema des Grafen von Waldstein\, WoO67\nFranz Schubert  
                   - Fantasie in f-Moll op.103\nAntonin Dvorak         
            - Slawische Tänze op.46\nGeorge Gershwin                - D
 rei Préludes für Klavier zu vier Händen\nNorbert Glanzberg            
   - Suite Yiddish\nGeorge Gershwin                - Rhapsody in Blue f
 ür Klavier zu vier Händen\n\nKarten für dieses Konzert gibt es im Vorv
 erkauf in Wegeners Buchhandlung\, bei Fa. Bleich\, telefonisch unter d
 er Scena-Servicenummer 05147 720937 sowie an der Abendkasse. Jugendlic
 he haben freien Eintritt.
X-ALT-DESC;FMTTYPE=text/html:<h4>Ein Klavier &#8211\; vier Hände &#821
 1\; Virtuosität und Musik pur!</h4>\n<p>„Den beiden Pianistinnen fehlt
  es an nichts\, weder an Temperament\, zündender rhythmischer Gestaltu
 ng\, noch an Wärme oder klanglicher Sensibilität.“ – so war in Klassik
  Heute über das Klavierduo Anna und Ines Walachowski zu lesen\, das lä
 ngst zu den führenden Klavierduos der Gegenwart zählt. Die aus Polen s
 tammenden Schwestern studierten in Hannover und Salzburg\, wesentliche
  musikalische Impulse erhielten sie durch Karl Heinz Kämmerling und Al
 fons Kontarsky\, der die Schwestern als „starke Persönlichkeiten mit D
 urchsetzungskraft und Willensstärke“ bezeichnete.</p>\n<p>Von der vita
 len Spielweise der beiden Pianistinnen war auch der legendäre amerikan
 ische Musikkritiker und „Klavierpapst“ Harold C. Schonberg höchst ange
 tan : „They seem to have unlimited technique\, they use a very wide dy
 namic palette\, they have oodles of temperament and unfaltering rhythm
 .“</p>\n<p>Das Duo konzertiert weltweit und ist zu Gast bei Festivals 
 wie dem Rheingau Musik Festival\, dem Schleswig-Holstein Musik Festiva
 l\, den Ludwigsburger Schlossfestspielen\, aber auch dem Harbin Music 
 Festival in China und dem Bangkok Music Festival in Thailand. In fruch
 tbaren und teils überraschenden Kooperationen erweitern Anna und Ines 
 Walachowski immer wieder auf’s Neue ihr künstlerisches Spektrum\, das 
 sie in 11 CD-Einspielungen in seiner ganzen Bandbreite präsentieren.</
 p>\n<p>Programm:<br>\nLudwig van Beethoven       &#8211\; 8 Variatione
 n über ein Thema des Grafen von Waldstein\, WoO67<br>\nFranz Schubert 
                    &#8211\; Fantasie in f-Moll op.103<br>\nAntonin Dvo
 rak                    &#8211\; Slawische Tänze op.46<br>\nGeorge Gers
 hwin                &#8211\; Drei Préludes für Klavier zu vier Händen<
 br>\nNorbert Glanzberg              &#8211\; Suite Yiddish<br>\nGeorge
  Gershwin                &#8211\; Rhapsody in Blue für Klavier zu vier
  Händen</p>\n<p>Karten für dieses Konzert gibt es im Vorverkauf in Weg
 eners Buchhandlung\, bei Fa. Bleich\, telefonisch unter der Scena-Serv
 icenummer 05147 720937 sowie an der Abendkasse. Jugendliche haben frei
 en Eintritt.</p>\n
URL:https://www.scena-burgdorf.de/events/klavierduo-walachowski/?lang=
 de
ATTACH:https://www.scena-burgdorf.de/events/klavierduo-walachowski/?la
 ng=de
ATTACH:https://www.scena-burgdorf.de/wp-content/uploads/Ines_Anna_Wala
 chowski__ThomasRabsch_1061224_2a_KLEIN-250x250.jpg
LOCATION:Ratssaal im Burgdorfer Schloss\, Spittaplatz 5\, Burgdorf
END:VEVENT
END:VCALENDAR
