BEGIN:VCALENDAR
VERSION:2.0
METHOD:PUBLISH
PRODID:-//hacksw/handcal//NONSGML v1.0//EN
BEGIN:VEVENT
DTSTAMP:20260425T143405Z
DTSTART:20250606T160000Z
DTEND:20250606T170000Z
UID:20250606T160000Z-20250606T170000Z-399@www.scena-burgdorf.de
SUMMARY:Schirin Fatemi - Deep into Nature
DESCRIPTION:Malerei und Druckgrafik - Fragile Schönheit der Natur und 
 das Verhältnis des Menschen zur Umwelt\n\nDie Ausstellung „Deep into N
 ature“ von Schirin Fatemi bietet einen Einblick in die künstlerische A
 useinandersetzung mit der Natur. Die Werkschau zeigt Malerei und Druck
 grafik und thematisiert die fragile Schönheit und Kraft der Natur sowi
 e das komplexe Verhältnis des Menschen zur Umwelt. Bei der Darstellung
  von Szenen\, in denen Figuren mit der Natur interagieren\, steht die 
 gegenseitige Beeinflussung sowie die kontinuierliche Veränderung unser
 es Lebensraums im Fokus. Dabei regen die Arbeiten dazu an\, innezuhalt
 en und die eigene Beziehung zur Natur zu reflektieren. Sie laden dazu 
 ein\, über die Zerbrechlichkeit des Naturraums nachzudenken und die ei
 gene Verbindung zur Umwelt neu zu entdecken.\n\nSchirin Fatemi \, gebo
 ren in Würzburg\, studierte an der Staatlichen Akademie der Bildenden 
 Künste in Bologna und in Rom\, wo sie das Abschlussdiplom erhielt.\nSi
 e ist bekannt für ihre Auseinandersetzung mit dem Dialog zwischen Mens
 ch und Natur. In Ihren farbenprächtigen Malereien und monochromen Druc
 kgrafiken verbindet sie traditionelle Techniken mit zeitgenössischen T
 hemen. Ihre Werke zeichnen sich durch eine Intensität aus\, die sowohl
  ästhetische als auch inhaltliche Tiefe schafft.\n\n2019 wurde Schirin
  Fatemi mit dem Andreas-Kunstpreis NATUR-MENSCH des Nationalpark Harz 
 ausgezeichnet. Ihre Werke sind in zahlreichen Ausstellungen im In- und
  Ausland sowie in öffentlichen und privaten Sammlungen vertreten.\n\nD
 ie Einführung in die Ausstellung gibt der Journalist\, Kurator und Pro
 fessor für Kulturjournalismus Wilfried Köpke.\n\nAusstellung:  07.06.-
  20.07.2025\nÖffnungszeiten: samstags und sonntags von 14-17:00 \, der
  Eintritt ist frei\n\n© Foto: Schirin Fatemi
X-ALT-DESC;FMTTYPE=text/html:<h4>Malerei und Druckgrafik &#8211\; Frag
 ile Schönheit der Natur und das Verhältnis des Menschen zur Umwelt</h4
 >\n<p>Die Ausstellung „Deep into Nature“ von Schirin Fatemi bietet ein
 en Einblick in die künstlerische Auseinandersetzung mit der Natur. Die
  Werkschau zeigt Malerei und Druckgrafik und thematisiert die fragile 
 Schönheit und Kraft der Natur sowie das komplexe Verhältnis des Mensch
 en zur Umwelt. Bei der Darstellung von Szenen\, in denen Figuren mit d
 er Natur interagieren\, steht die gegenseitige Beeinflussung sowie die
  kontinuierliche Veränderung unseres Lebensraums im Fokus. Dabei regen
  die Arbeiten dazu an\, innezuhalten und die eigene Beziehung zur Natu
 r zu reflektieren. Sie laden dazu ein\, über die Zerbrechlichkeit des 
 Naturraums nachzudenken und die eigene Verbindung zur Umwelt neu zu en
 tdecken.</p>\n<p>Schirin Fatemi \, geboren in Würzburg\, studierte an 
 der Staatlichen Akademie der Bildenden Künste in Bologna und in Rom\, 
 wo sie das Abschlussdiplom erhielt.<br>\nSie ist bekannt für ihre Ause
 inandersetzung mit dem Dialog zwischen Mensch und Natur. In Ihren farb
 enprächtigen Malereien und monochromen Druckgrafiken verbindet sie tra
 ditionelle Techniken mit zeitgenössischen Themen. Ihre Werke zeichnen 
 sich durch eine Intensität aus\, die sowohl ästhetische als auch inhal
 tliche Tiefe schafft.</p>\n<p>2019 wurde Schirin Fatemi mit dem Andrea
 s-Kunstpreis NATUR-MENSCH des Nationalpark Harz ausgezeichnet. Ihre We
 rke sind in zahlreichen Ausstellungen im In- und Ausland sowie in öffe
 ntlichen und privaten Sammlungen vertreten.</p>\n<p>Die Einführung in 
 die Ausstellung gibt der Journalist\, Kurator und Professor für Kultur
 journalismus Wilfried Köpke.</p>\n<p>Ausstellung:  07.06.- 20.07.2025<
 br>\nÖffnungszeiten: samstags und sonntags von 14-17:00 \, der Eintrit
 t ist frei</p>\n<p>© Foto: Schirin Fatemi</p>\n
URL:https://www.scena-burgdorf.de/events/schirin-fatemi-deep-into-natu
 re/?lang=de
ATTACH:https://www.scena-burgdorf.de/events/schirin-fatemi-deep-into-n
 ature/?lang=de
ATTACH:https://www.scena-burgdorf.de/wp-content/uploads/Schirin-Fatemi
 _Deep-Nature-250x250.jpg
LOCATION:Magdalenenkapelle\, Alter Friedhof\, Burgdorf
END:VEVENT
END:VCALENDAR
