BEGIN:VCALENDAR
VERSION:2.0
METHOD:PUBLISH
PRODID:-//hacksw/handcal//NONSGML v1.0//EN
BEGIN:VEVENT
DTSTAMP:20260423T163543Z
DTSTART:20260111T160000Z
DTEND:20260111T180000Z
UID:20260111T160000Z-20260111T180000Z-409@www.scena-burgdorf.de
SUMMARY:Tianwa Yang und Nicholas Rimmer
DESCRIPTION: \n\n\nAuf dieses Wiederhören freuen wir uns ganz besonder
 s! Die aus China stammende Geigerin Tianwa Yang gehört zur Crème der g
 roßen Solistinnen unserer Zeit! Um zu dieser Riege zu gehören\, brauch
 t es nicht nur eine stupende Technik und Virtuosität\, sondern ebenso 
 die Fähigkeit\, das Wesen der Musik ganzheitlich zu ergründen und dies
 e Erkenntnisse dem Publikum mitzuteilen.\n\nTianwa Yang versteht es wi
 e nur wenige andere\, sowohl Bach\, die Klassiker und Romantiker wie a
 uch zeitgenössische Werke auf eine Art und Weise zu interpretieren und
  zu vermitteln\, die das Publikum wie selbstverständlich und im positi
 vsten Sinne gefangen nimmt.\n\nAls Solistin und Kammermusikerin konzer
 tiert Tianwa Yang weltweit auf den großen Bühnen\, mit internationalen
  Orchestern und auf renommierten Festivals. Ihre preisgekrönten CD-Auf
 nahmen sowie der Opus Klassik Preis 2022 zeugen von künstlerischer Exz
 ellenz. Neben ihrer Konzerttätigkeit lehrt sie seit 2018 an der Musikh
 ochschule in Würzburg.\n\nDer aus England stammende Pianist Nicholas R
 immer studierte Musikwissenschaft in Cambridge und Klavier in Hannover
 . Als Solist und Kammermusiker ist er international mit renommierten O
 rchestern sowie auf großen Festivals zu erleben. Seine Diskografie umf
 asst neben Solo- und Kammermusikwerken von Strauss\, Haydn und Beethov
 en die preisgekrönte Einspielung sämtlicher Werke für Violine und Klav
 ier von Wolfgang Rihm mit der Geigerin Tianwa Yang. Seit 2020 ist er P
 rofessor für Klavier an der Staatlichen Hochschule für Musik in Freibu
 rg.\n\nBartok  -  Sonate Nr. 2\nBeethoven  -  Sonate Nr. 6 A-Dur\, op.
  30\,1\nBach  -  Sonate A-Dur\, BWV 1015\nBrahms  -  Sonate Nr. 1 G-Du
 r\, op.78
X-ALT-DESC;FMTTYPE=text/html:<p>&nbsp\;</p>\n<p>Auf dieses Wiederhören
  freuen wir uns ganz besonders! Die aus China stammende Geigerin Tianw
 a Yang gehört zur Crème der großen Solistinnen unserer Zeit! Um zu die
 ser Riege zu gehören\, braucht es nicht nur eine stupende Technik und 
 Virtuosität\, sondern ebenso die Fähigkeit\, das Wesen der Musik ganzh
 eitlich zu ergründen und diese Erkenntnisse dem Publikum mitzuteilen.<
 /p>\n<p>Tianwa Yang versteht es wie nur wenige andere\, sowohl Bach\, 
 die Klassiker und Romantiker wie auch zeitgenössische Werke auf eine A
 rt und Weise zu interpretieren und zu vermitteln\, die das Publikum wi
 e selbstverständlich und im positivsten Sinne gefangen nimmt.</p>\n<p>
 Als Solistin und Kammermusikerin konzertiert Tianwa Yang weltweit auf 
 den großen Bühnen\, mit internationalen Orchestern und auf renommierte
 n Festivals. Ihre preisgekrönten CD-Aufnahmen sowie der Opus Klassik P
 reis 2022 zeugen von künstlerischer Exzellenz. Neben ihrer Konzerttäti
 gkeit lehrt sie seit 2018 an der Musikhochschule in Würzburg.</p>\n<p>
 Der aus England stammende Pianist Nicholas Rimmer studierte Musikwisse
 nschaft in Cambridge und Klavier in Hannover. Als Solist und Kammermus
 iker ist er international mit renommierten Orchestern sowie auf großen
  Festivals zu erleben. Seine Diskografie umfasst neben Solo- und Kamme
 rmusikwerken von Strauss\, Haydn und Beethoven die preisgekrönte Einsp
 ielung sämtlicher Werke für Violine und Klavier von Wolfgang Rihm mit 
 der Geigerin Tianwa Yang. Seit 2020 ist er Professor für Klavier an de
 r Staatlichen Hochschule für Musik in Freiburg.</p>\n<p>Bartok  &#8211
 \;  Sonate Nr. 2<br>\nBeethoven  &#8211\;  Sonate Nr. 6 A-Dur\, op. 30
 \,1<br>\nBach  &#8211\;  Sonate A-Dur\, BWV 1015<br>\nBrahms  &#8211\;
   Sonate Nr. 1 G-Dur\, op.78</p>\n
URL:https://www.scena-burgdorf.de/events/tianwa-yang-und-nicholas-rimm
 er/?lang=de
ATTACH:https://www.scena-burgdorf.de/events/tianwa-yang-und-nicholas-r
 immer/?lang=de
ATTACH:https://www.scena-burgdorf.de/wp-content/uploads/Yang-Rimmer-we
 b-1-250x250.png
LOCATION:Ratssaal im Burgdorfer Schloss\, Spittaplatz 5\, Burgdorf
END:VEVENT
END:VCALENDAR
