BEGIN:VCALENDAR
VERSION:2.0
METHOD:PUBLISH
PRODID:-//hacksw/handcal//NONSGML v1.0//EN
BEGIN:VEVENT
DTSTAMP:20260423T100511Z
DTSTART:20260321T130000Z
DTEND:20260426T150000Z
UID:20260321T130000Z-20260426T150000Z-422@www.scena-burgdorf.de
SUMMARY:Katrin Hamann: Im Moment der Stille
DESCRIPTION:Die hannoversche Künstlerin Katrin Hamann stellt den Mensc
 hen und die Natur ins Zentrum ihrer Arbeiten - mal im Einklang\, mal i
 n Disharmonie\, aber immer verbunden.\n\n\nIhre farbintensiven Bilder 
 sind geprägt von klaren Konturen und leuchtenden Oberflächen. Die Küns
 tlerin fügt  Emotionen\, flüchtige und intime Augenblicke\, Orte und M
 enschen\, denen sie begegnet ist\, gespickt mit Botschaften in ein neu
 es Arrangement von Farben\, Formen und Mustern.\n\nMit der Ausstellung
  „Im Moment der Stille“ öffnet die Künstlerin einen neuen\, atmosphäri
 schen Zugang zur Verbindung zwischen Mensch und Natur. Im Titelbild de
 r Ausstellung löst sich die Grenze zwischen Mensch und Natur: Zwei Kör
 per\, halb Mensch\, halb Wasser\, zwischen Blick und Bewegung. Natur i
 st nicht Kulisse\, sondern Teil des Selbst.\n\nKatrin Hamann studierte
  Kulturwissenschaften mit Schwerpunkt Bildende Kunst und Ästhetische P
 raxis an der Universität Hildesheim. Bereits während dieser Zeit entwi
 ckelte sie ein breites künstlerisches Repertoire aus Großformaten\, In
 stallationen\, fotografischen Arbeiten und Kurzfilmen\, das später zur
  Grundlage ihrer heutigen Malerei wurde. Seit 2012 arbeitet sie als fr
 eie Künstlerin in Hannover und organisierte die Ausstellungen Kunst im
  16. Stock\, Kunst im Kino\, Kunst im Polizeirevier und die Honigschle
 uder. 2022 eröffnete sie das Atelier Hamann als Showroom für die eigen
 e Kunst und regelmäßige Organisation von Gastausstellungen regionaler 
 und internationaler Künstler*innen.  2024 gründete sie den Hannover Ar
 t Connecting e.V.\n\nKatrin Hamann ist auf internationalen Art-Symposi
 en in Asien vertreten und stellt regelmäßig aus\, in Deutschland unter
  anderem im Kunstverein Norden und bei der NordArt 2025.\n\nAusstellun
 g:  21.03.- 26.04.2026\nÖffnungszeiten: samstags und sonntags von 14-1
 7:00 \, der Eintritt ist frei\n\n© Foto: Katrin Hamann
X-ALT-DESC;FMTTYPE=text/html:<p>Die hannoversche Künstlerin Katrin Ham
 ann stellt den Menschen und die Natur ins Zentrum ihrer Arbeiten &#821
 1\; mal im Einklang\, mal in Disharmonie\, aber immer verbunden.</p>\n
 <p>Ihre farbintensiven Bilder sind geprägt von klaren Konturen und leu
 chtenden Oberflächen. Die Künstlerin fügt  Emotionen\, flüchtige und i
 ntime Augenblicke\, Orte und Menschen\, denen sie begegnet ist\, gespi
 ckt mit Botschaften in ein neues Arrangement von Farben\, Formen und M
 ustern.</p>\n<p>Mit der Ausstellung „Im Moment der Stille“ öffnet die 
 Künstlerin einen neuen\, atmosphärischen Zugang zur Verbindung zwische
 n Mensch und Natur. Im Titelbild der Ausstellung löst sich die Grenze 
 zwischen Mensch und Natur: Zwei Körper\, halb Mensch\, halb Wasser\, z
 wischen Blick und Bewegung. Natur ist nicht Kulisse\, sondern Teil des
  Selbst.</p>\n<p>Katrin Hamann studierte Kulturwissenschaften mit Schw
 erpunkt Bildende Kunst und Ästhetische Praxis an der Universität Hilde
 sheim. Bereits während dieser Zeit entwickelte sie ein breites künstle
 risches Repertoire aus Großformaten\, Installationen\, fotografischen 
 Arbeiten und Kurzfilmen\, das später zur Grundlage ihrer heutigen Male
 rei wurde. Seit 2012 arbeitet sie als freie Künstlerin in Hannover und
  organisierte die Ausstellungen <i>Kunst im 16. Stock\, Kunst im Kino\
 ,</i> <i>Kunst im Polizeirevier</i> und die<i> Honigschleuder. </i>202
 2 eröffnete sie das <i>Atelier Hamann</i> als Showroom für die eigene 
 Kunst und regelmäßige Organisation von Gastausstellungen regionaler un
 d internationaler Künstler*innen.  2024 gründete sie den Hannover Art 
 Connecting e.V.</p>\n<p>Katrin Hamann ist auf internationalen Art-Symp
 osien in Asien vertreten und stellt regelmäßig aus\, in Deutschland un
 ter anderem im Kunstverein Norden und bei der NordArt 2025.</p>\n<p>Au
 sstellung:  21.03.- 26.04.2026<br>\nÖffnungszeiten: <strong>samstags u
 nd sonntags</strong> von 14-17:00 \, der Eintritt ist frei</p>\n<p>© F
 oto: Katrin Hamann</p>\n
URL:https://www.scena-burgdorf.de/events/katrin-hamann-im-moment-der-s
 tille-2/?lang=de
ATTACH:https://www.scena-burgdorf.de/events/katrin-hamann-im-moment-de
 r-stille-2/?lang=de
ATTACH:https://www.scena-burgdorf.de/wp-content/uploads/Halong-Bay_202
 4_kleiner-250x250.jpg
LOCATION:Jürgen-Rodehorst-Haus\, Bahnhofstraße 7\, Burgdorf
END:VEVENT
END:VCALENDAR
