BEGIN:VCALENDAR
VERSION:2.0
METHOD:PUBLISH
PRODID:-//hacksw/handcal//NONSGML v1.0//EN
BEGIN:VEVENT
DTSTAMP:20260423T115020Z
DTSTART:20260823T150000Z
DTEND:20260823T170000Z
UID:20260823T150000Z-20260823T170000Z-424@www.scena-burgdorf.de
SUMMARY:Ensemble Wunderkammer
DESCRIPTION:SPÄTE BLÜTEN - Musik aus dem Paris des 18. Jahrhunderts\n\
 nIm 18. Jahrhundert wandelte sich in der europaweit bedeutenden Musik-
 Metropole Paris der bis dahin etablierte Nationalstil und nahm italien
 ische Einflüsse auf.\n\nWährend das Cembalo in Frankreich lange ein vi
 el gespieltes Instrument blieb\, war das Cello als solistisches Instru
 ment ein Import aus Italien\, das die Viola da Gamba zusehends verdrän
 gte. Es begann ein Wettstreit zwischen Gambe und Cello. Der streitbare
  Gambenvirtuose Antoine Forquerai komponierte daraufhin höchst virtuos
 e Gamben-Stücke nach dem Vorbild italienischer Violinsonaten. Der Gamb
 ist Jean Baptiste Barrière dagegen wechselte zum Cello\, komponierte i
 talienische Sonaten für Cello und wurde als erster französischer Cello
 virtuose bekannt.\n\nWunderkammer ein Berliner Alte Musik Ensemble\, d
 as altes Repertoire pflegt und vergessene Schätze hebt und so das Publ
 ikum in eine musikalische Wunderkammer einlädt. Das Ensemble war zu Ga
 st bei namhaften Festivals\, wie Telemann Festtage Magdeburg\, Quedlin
 burger Musiksommer\, Heinrich Schütz Musikfest u.a. Es wird vom Berlin
 er Senat gefördert und arbeitet u.a. mit der Berliner Singakademie und
  dem Dresdener Vokalensemble Ælbgut zusammen. Die gemeinsame Einspielu
 ng von Bachs Johannespassion wurde mit dem Opus Klassik ausgezeichnet.
 \n\nWunderkammer\nJuliane Laake - Viola da Gamba\nMartin Seemann - Vio
 loncello\nMira Lange - Cembalo\n\nKarten für 22 Euro gibt es in Wegene
 rs Buchhandlung\, bei Fa. Bleich\, telefonisch unter 05147 720937 und 
 an der Abendkasse.
X-ALT-DESC;FMTTYPE=text/html:<h5>SPÄTE BLÜTEN &#8211\; Musik aus dem P
 aris des 18. Jahrhunderts</h5>\n<p>Im 18. Jahrhundert wandelte sich in
  der europaweit bedeutenden Musik-Metropole Paris der bis dahin etabli
 erte Nationalstil und nahm italienische Einflüsse auf.</p>\n<p>Während
  das Cembalo in Frankreich lange ein viel gespieltes Instrument blieb\
 , war das Cello als solistisches Instrument ein Import aus Italien\, d
 as die Viola da Gamba zusehends verdrängte. Es begann ein Wettstreit z
 wischen Gambe und Cello. Der streitbare Gambenvirtuose Antoine Forquer
 ai komponierte daraufhin höchst virtuose Gamben-Stücke nach dem Vorbil
 d italienischer Violinsonaten. Der Gambist Jean Baptiste Barrière dage
 gen wechselte zum Cello\, komponierte italienische Sonaten für Cello u
 nd wurde als erster französischer Cellovirtuose bekannt.</p>\n<p>Wunde
 rkammer ein Berliner Alte Musik Ensemble\, das altes Repertoire pflegt
  und vergessene Schätze hebt und so das Publikum in eine musikalische 
 Wunderkammer einlädt. Das Ensemble war zu Gast bei namhaften Festivals
 \, wie Telemann Festtage Magdeburg\, Quedlinburger Musiksommer\, Heinr
 ich Schütz Musikfest u.a. Es wird vom Berliner Senat gefördert und arb
 eitet u.a. mit der Berliner Singakademie und dem Dresdener Vokalensemb
 le Ælbgut zusammen. Die gemeinsame Einspielung von Bachs Johannespassi
 on wurde mit dem Opus Klassik ausgezeichnet.</p>\n<p><strong>Wunderkam
 mer<br>\n</strong>Juliane Laake &#8211\; Viola da Gamba<br>\nMartin Se
 emann &#8211\; Violoncello<br>\nMira Lange &#8211\; Cembalo</p>\n<p>Ka
 rten für 22 Euro gibt es in Wegeners Buchhandlung\, bei Fa. Bleich\, t
 elefonisch unter 05147 720937 und an der Abendkasse.</p>\n
URL:https://www.scena-burgdorf.de/events/ensemble-wunderkammer/?lang=d
 e
ATTACH:https://www.scena-burgdorf.de/events/ensemble-wunderkammer/?lan
 g=de
ATTACH:https://www.scena-burgdorf.de/wp-content/uploads/Wunderkammer-2
 50x250.jpg
LOCATION:Ratssaal im Burgdorfer Schloss\, Spittaplatz 5\, Burgdorf
END:VEVENT
END:VCALENDAR
