BEGIN:VCALENDAR
VERSION:2.0
METHOD:PUBLISH
PRODID:-//hacksw/handcal//NONSGML v1.0//EN
BEGIN:VEVENT
DTSTAMP:20260423T112659Z
DTSTART:20261025T160000Z
DTEND:20261025T180000Z
UID:20261025T160000Z-20261025T180000Z-425@www.scena-burgdorf.de
SUMMARY:Ensemble PRISMA
DESCRIPTION:STREETS OF LONDON - Auf musikalischer Kneipentour\n\nLondo
 n 1651: der Bürgerkrieg geht ins dritte Jahr. Opernhäuser und Theater 
 sind geschlossen\, aber das Nachtleben brodelt: ein paar Stunden Abtau
 chen in ausgelassenen Tanz\, fröhliche Lieder und gute Getränke - als 
 gäbe es kein Morgen. Da ist so viel Leben in den alten Tunes\, virtuos
 en Divisions und populären Songs.\n\nPrisma nimmt uns mit auf eine Tou
 r durch die Kneipen und Pubs von London und erkundet die britische Tan
 zmusik des 17. Jahrhunderts: Melodien aus der berühmten Sammlung John 
 Playfords „The English Dancing Master“\, „The Division Flute“\, The Di
 vision Violin“\, sowie Musik aus den Opern von Henry Purcell erklingen
  hier mitreißend und schwungvoll.\n\nDie vier Musikabenteurer aus vers
 chiedenen Regionen der Welt teilen die schiere Freude am Eintauchen in
  musikalische Welten. Das dynamische Quartett hat sich der Verbindung 
 von historisch gewachsener Volksmusik mit 'Kunstmusik' früherer Jahrhu
 nderte verschrieben.\nPrisma ist Teil des EU-geförderten Ensemble-Prog
 ramms „EEEmerging“ und gern gesehener und gehörter Gast auf namhaften 
 Festivals wie u.a. York Early Music Festival\, Mozartfest Würzburg\, I
 nnsbrucker Festwochen und bei der diesjährigen Mozartwoche Salzburg.\n
 \nPRISMA\nElisabeth Champollion - Blockflöten\nFranciska Hajdu - Violi
 ne\nDaniel Seminara - Laute\, Gitarre\nRobert Smith - Viola da Gamba\n
 \nKarten für 22 Euro gibt es in Wegeners Buchhandlung\, bei Fa. Bleich
 \, telefonisch unter 05147 720937\, per Email info@scena-burgdorf.de u
 nd an der Abendkasse. Jugendliche\, Auszubildende und Studierende habe
 n freien Eintritt.
X-ALT-DESC;FMTTYPE=text/html:<h5>STREETS OF LONDON &#8211\; Auf musika
 lischer Kneipentour</h5>\n<p>London 1651: der Bürgerkrieg geht ins dri
 tte Jahr. Opernhäuser und Theater sind geschlossen\, aber das Nachtleb
 en brodelt: ein paar Stunden Abtauchen in ausgelassenen Tanz\, fröhlic
 he Lieder und gute Getränke &#8211\; als gäbe es kein Morgen. Da ist s
 o viel Leben in den alten Tunes\, virtuosen Divisions und populären So
 ngs.</p>\n<p>Prisma nimmt uns mit auf eine Tour durch die Kneipen und 
 Pubs von London und erkundet die britische Tanzmusik des 17. Jahrhunde
 rts: Melodien aus der berühmten Sammlung John Playfords „The English D
 ancing Master“\, „The Division Flute“\, &#8222\;The Division Violin“\,
  sowie Musik aus den Opern von Henry Purcell erklingen hier mitreißend
  und schwungvoll.</p>\n<p>Die vier Musikabenteurer aus verschiedenen R
 egionen der Welt teilen die schiere Freude am Eintauchen in musikalisc
 he Welten. Das dynamische Quartett hat sich der Verbindung von histori
 sch gewachsener Volksmusik mit &#8218\;Kunstmusik&#8216\; früherer Jah
 rhunderte verschrieben.<br>\nPrisma ist Teil des EU-geförderten Ensemb
 le-Programms „EEEmerging“ und gern gesehener und gehörter Gast auf nam
 haften Festivals wie u.a. York Early Music Festival\, Mozartfest Würzb
 urg\, Innsbrucker Festwochen und bei der diesjährigen Mozartwoche Salz
 burg.</p>\n<p><strong>PRISMA<br>\n</strong>Elisabeth Champollion &#821
 1\; Blockflöten<br>\nFranciska Hajdu &#8211\; Violine<br>\nDaniel Semi
 nara &#8211\; Laute\, Gitarre<br>\nRobert Smith &#8211\; Viola da Gamb
 a</p>\n<p>Karten für 22 Euro gibt es in Wegeners Buchhandlung\, bei Fa
 . Bleich\, telefonisch unter 05147 720937\, per Email info@scena-burgd
 orf.de und an der Abendkasse. Jugendliche\, Auszubildende und Studiere
 nde haben freien Eintritt.</p>\n
URL:https://www.scena-burgdorf.de/events/ensemble-prisma/?lang=de
ATTACH:https://www.scena-burgdorf.de/events/ensemble-prisma/?lang=de
ATTACH:https://www.scena-burgdorf.de/wp-content/uploads/Prisma_KI-250x
 250.png
LOCATION:Ratssaal im Burgdorfer Schloss\, Spittaplatz 5\, Burgdorf
END:VEVENT
END:VCALENDAR
