BEGIN:VCALENDAR
VERSION:2.0
METHOD:PUBLISH
PRODID:-//hacksw/handcal//NONSGML v1.0//EN
BEGIN:VEVENT
DTSTAMP:20260423T112810Z
DTSTART:20270124T160000Z
DTEND:20270124T180000Z
UID:20270124T160000Z-20270124T180000Z-426@www.scena-burgdorf.de
SUMMARY:Trio Sixty1Strings
DESCRIPTION:Das Goldene Zeitalter\n\nEine außergewöhnliche Besetzung: 
  Mandoline\, Gitarre\, Harfe – 61 Saiten – drei Musikerinnen! Nicht me
 hr und nicht weniger braucht es\, um eine neue musikalische Welt zu er
 schließen.\n\nSeit 2013 begeistert das Trio Sixty1Strings das Publikum
  und hat sich einen festen Platz im Konzertleben  erobert. Die mehrfac
 h ausgezeichneten Musikerinnen widmen sich mit Begeisterung dem Einstu
 dieren von Originalkompositionen und dem Transkribieren geeigneter Wer
 ke\, um den besonderen Klang ihrer  drei ähnlichen und doch charakteri
 stischen Zupfinstrumente zu präsentieren.\nDas Goldene Zeitalter des B
 arock erwecken sie in diesem Konzertprogramm zum Leben\, in dem sie si
 ch mit viel Spielfreude und Virtuosität der Musik von Vivaldi\, Scarla
 tti\, Marais und weiteren Komponisten aus Italien\, Spanien und Frankr
 eich widmen.\n\nSIXTY1STRINGS:\nNegin Habibi              Barockgitarr
 e\nKonstanze Kuß           Barockharfe\nEkaterina Solovey      Barockm
 andoline\n\nKarten für 22 Euro gibt es in Wegeners Buchhandlung\, bei 
 Fa. Bleich\, telefonisch unter 05147 720937\, per Email info@scena-bur
 gdorf.de und an der Abendkasse. Jugendliche\, Auszubildende und Studie
 rende haben freien Eintritt.
X-ALT-DESC;FMTTYPE=text/html:<h5>Das Goldene Zeitalter</h5>\n<p>Eine a
 ußergewöhnliche Besetzung:  Mandoline\, Gitarre\, Harfe – 61 Saiten – 
 drei Musikerinnen! Nicht mehr und nicht weniger braucht es\, um eine n
 eue musikalische Welt zu erschließen.</p>\n<p>Seit 2013 begeistert das
  Trio Sixty1Strings das Publikum und hat sich einen festen Platz im Ko
 nzertleben  erobert. Die mehrfach ausgezeichneten Musikerinnen widmen 
 sich mit Begeisterung dem Einstudieren von Originalkompositionen und d
 em Transkribieren geeigneter Werke\, um den besonderen Klang ihrer  dr
 ei ähnlichen und doch charakteristischen Zupfinstrumente zu präsentier
 en.<br>\nDas Goldene Zeitalter des Barock erwecken sie in diesem Konze
 rtprogramm zum Leben\, in dem sie sich mit viel Spielfreude und Virtuo
 sität der Musik von Vivaldi\, Scarlatti\, Marais und weiteren Komponis
 ten aus Italien\, Spanien und Frankreich widmen.</p>\n<p><strong>SIXTY
 1STRINGS:<br>\n</strong>Negin Habibi              Barockgitarre<br>\nK
 onstanze Kuß           Barockharfe<br>\nEkaterina Solovey      Barockm
 andoline</p>\n<p>Karten für 22 Euro gibt es in Wegeners Buchhandlung\,
  bei Fa. Bleich\, telefonisch unter 05147 720937\, per Email info@scen
 a-burgdorf.de und an der Abendkasse. Jugendliche\, Auszubildende und S
 tudierende haben freien Eintritt.</p>\n
URL:https://www.scena-burgdorf.de/events/trio-sixty1strings/?lang=de
ATTACH:https://www.scena-burgdorf.de/events/trio-sixty1strings/?lang=d
 e
ATTACH:https://www.scena-burgdorf.de/wp-content/uploads/Trio-Sixty1-St
 rings-250x250.jpg
LOCATION:Ratssaal im Burgdorfer Schloss\, Spittaplatz 5\, Burgdorf
END:VEVENT
END:VCALENDAR
