BEGIN:VCALENDAR
VERSION:2.0
METHOD:PUBLISH
PRODID:-//hacksw/handcal//NONSGML v1.0//EN
BEGIN:VEVENT
DTSTAMP:20260422T095751Z
DTSTART:20200517T150000Z
DTEND:20200517T170000Z
UID:20200517T150000Z-20200517T170000Z-54@www.scena-burgdorf.de
SUMMARY:Anna-Doris Capitelli (Mezzosopran) und Piotr Fidelus (Klavier)
DESCRIPTION:« Märchen und Balladen » steht über diesem wundervollen Li
 ederabend mit der großartigen Mezzosopranistin Anna-Doris Capitelli un
 d ihrem Begleiter am Klavier\, dem Pianisten Piotr Fidelus. Beide habe
 n in Hannover studiert und von hier aus ihren Weg auf die großen Bühne
 n der Welt angetreten. Capitelli ist Mitglied der Academia der Mailänd
 er Scala.\n\n Anna-Doris Capitelli stammt aus Italien\, hat in Hannove
 r studiert und ihr großes Talent in Meisterkursen u.a. bei Brigitte Fa
 ssbaender entwickelt. 2017 debutierte sie an der Mailänder Scala\, wo 
 sie als Mitglied der « Accademia » inzwischen regelmäßig und mit große
 m Erfolg zu erleben ist. 2018 errang sie den zweiten Preis beim renomm
 ierten Leyla Gencer Gesangswettbewerb in Istanbul. Neben dem Opernfach
  konzertiert sie mit ihrem breit gefächerten Repertoire als Solistin m
 it Orchestern und Ensembles. Bereits 2013 nahm sie ihre erste CD mit d
 en frühen Liedern von Alban Berg auf.\n\nIhr Partner am Klavier ist de
 r polnische Pianist Piotr Fidelus. Auch er hat in Hannover studiert\, 
 ist ein renommierter Begleiter und arbeitet derzeit als Solorepetitor 
 an der Komischen Oper Berlin.\n\nNeben dem Hauptwerk des Abends\, Schu
 manns Eichendorf-Liederkreis op.39\, stehen zahlreiche märchenhafte Li
 eder und Balladen von Robert Schumann (Drei Gesänge op.31\, Liederalbu
 m für die Jugend)\, Hugo Wolf (Mörike Lieder)\, Felix Mendelssohn-Bart
 holdy\, Gustav Mahler (Des Knaben Wunderhorn)\, Franz Schubert und Fra
 nz Liszt auf dem Programm.
X-ALT-DESC;FMTTYPE=text/html:<p>« Märchen und Balladen » steht über di
 esem wundervollen Liederabend mit der großartigen Mezzosopranistin Ann
 a-Doris Capitelli und ihrem Begleiter am Klavier\, dem Pianisten Piotr
  Fidelus. Beide haben in Hannover studiert und von hier aus ihren Weg 
 auf die großen Bühnen der Welt angetreten. Capitelli ist Mitglied der 
 &#8222\;Academia&#8220\; der Mailänder Scala.</p>\n<p> Anna-Doris Capi
 telli stammt aus Italien\, hat in Hannover studiert und ihr großes Tal
 ent in Meisterkursen u.a. bei Brigitte Fassbaender entwickelt. 2017 de
 butierte sie an der Mailänder Scala\, wo sie als Mitglied der « Accade
 mia » inzwischen regelmäßig und mit großem Erfolg zu erleben ist. 2018
  errang sie den zweiten Preis beim renommierten Leyla Gencer Gesangswe
 ttbewerb in Istanbul. Neben dem Opernfach konzertiert sie mit ihrem br
 eit gefächerten Repertoire als Solistin mit Orchestern und Ensembles. 
 Bereits 2013 nahm sie ihre erste CD mit den frühen Liedern von Alban B
 erg auf.</p>\n<p>Ihr Partner am Klavier ist der polnische Pianist Piot
 r Fidelus. Auch er hat in Hannover studiert\, ist ein renommierter Beg
 leiter und arbeitet derzeit als Solorepetitor an der Komischen Oper Be
 rlin.</p>\n<p>Neben dem Hauptwerk des Abends\, Schumanns Eichendorf-Li
 ederkreis op.39\, stehen zahlreiche märchenhafte Lieder und Balladen v
 on Robert Schumann (Drei Gesänge op.31\, Liederalbum für die Jugend)\,
  Hugo Wolf (Mörike Lieder)\, Felix Mendelssohn-Bartholdy\, Gustav Mahl
 er (Des Knaben Wunderhorn)\, Franz Schubert und Franz Liszt auf dem Pr
 ogramm.</p>\n
URL:https://www.scena-burgdorf.de/events/anna-doris-capitelli-mezzosop
 ran-und-piotr-fidelus-klavier/?lang=de
ATTACH:https://www.scena-burgdorf.de/events/anna-doris-capitelli-mezzo
 sopran-und-piotr-fidelus-klavier/?lang=de
ATTACH:https://www.scena-burgdorf.de/wp-content/uploads/Verschoben-Cap
 itelli-250x250.jpg
LOCATION:Ratssaal im Burgdorfer Schloss\, Spittaplatz 5\, Burgdorf
END:VEVENT
END:VCALENDAR
